BEGIN:VCALENDAR
VERSION:2.0
PRODID:-//Tank Storage Magazine - ECPv6.15.20//NONSGML v1.0//EN
CALSCALE:GREGORIAN
METHOD:PUBLISH
X-ORIGINAL-URL:https://tankstorage.com
X-WR-CALDESC:Events for Tank Storage Magazine
REFRESH-INTERVAL;VALUE=DURATION:PT1H
X-Robots-Tag:noindex
X-PUBLISHED-TTL:PT1H
BEGIN:VTIMEZONE
TZID:Europe/London
BEGIN:DAYLIGHT
TZOFFSETFROM:+0000
TZOFFSETTO:+0100
TZNAME:BST
DTSTART:20230326T010000
END:DAYLIGHT
BEGIN:STANDARD
TZOFFSETFROM:+0100
TZOFFSETTO:+0000
TZNAME:GMT
DTSTART:20231029T010000
END:STANDARD
BEGIN:DAYLIGHT
TZOFFSETFROM:+0000
TZOFFSETTO:+0100
TZNAME:BST
DTSTART:20240331T010000
END:DAYLIGHT
BEGIN:STANDARD
TZOFFSETFROM:+0100
TZOFFSETTO:+0000
TZNAME:GMT
DTSTART:20241027T010000
END:STANDARD
BEGIN:DAYLIGHT
TZOFFSETFROM:+0000
TZOFFSETTO:+0100
TZNAME:BST
DTSTART:20250330T010000
END:DAYLIGHT
BEGIN:STANDARD
TZOFFSETFROM:+0100
TZOFFSETTO:+0000
TZNAME:GMT
DTSTART:20251026T010000
END:STANDARD
END:VTIMEZONE
BEGIN:VEVENT
DTSTART;VALUE=DATE:20240312
DTEND;VALUE=DATE:20240314
DTSTAMP:20260420T134507
CREATED:20231013T095820Z
LAST-MODIFIED:20240119T130756Z
UID:38609-1710201600-1710374399@tankstorage.com
SUMMARY:StocExpo 2024
DESCRIPTION:StocExpo is the meeting place for the international tank storage and energy infrastructure sector\, with an eye firmly on the future. Over two days\, thousands of tank storage professionals from leading terminals\, oil and chemical producers and renewables experts from across the world will attend.
URL:https://tankstorage.com/event/stocexpo-2024/
LOCATION:Rotterdam Ahoy\, Ahoy Arena\, Ahoyweg 10\, Rotterdam\, 3084\, Netherlands
ATTACH;FMTTYPE=image/jpeg:https://tankstorage.com/wp-content/uploads/2023/05/SE24REG-now__300x250.jpg
END:VEVENT
END:VCALENDAR