BEGIN:VCALENDAR
VERSION:2.0
PRODID:-//Tank Storage Magazine - ECPv6.15.20//NONSGML v1.0//EN
CALSCALE:GREGORIAN
METHOD:PUBLISH
X-WR-CALNAME:Tank Storage Magazine
X-ORIGINAL-URL:https://tankstorage.com
X-WR-CALDESC:Events for Tank Storage Magazine
REFRESH-INTERVAL;VALUE=DURATION:PT1H
X-Robots-Tag:noindex
X-PUBLISHED-TTL:PT1H
BEGIN:VTIMEZONE
TZID:Europe/London
BEGIN:DAYLIGHT
TZOFFSETFROM:+0000
TZOFFSETTO:+0100
TZNAME:BST
DTSTART:20230326T010000
END:DAYLIGHT
BEGIN:STANDARD
TZOFFSETFROM:+0100
TZOFFSETTO:+0000
TZNAME:GMT
DTSTART:20231029T010000
END:STANDARD
BEGIN:DAYLIGHT
TZOFFSETFROM:+0000
TZOFFSETTO:+0100
TZNAME:BST
DTSTART:20240331T010000
END:DAYLIGHT
BEGIN:STANDARD
TZOFFSETFROM:+0100
TZOFFSETTO:+0000
TZNAME:GMT
DTSTART:20241027T010000
END:STANDARD
BEGIN:DAYLIGHT
TZOFFSETFROM:+0000
TZOFFSETTO:+0100
TZNAME:BST
DTSTART:20250330T010000
END:DAYLIGHT
BEGIN:STANDARD
TZOFFSETFROM:+0100
TZOFFSETTO:+0000
TZNAME:GMT
DTSTART:20251026T010000
END:STANDARD
END:VTIMEZONE
BEGIN:VEVENT
DTSTART;VALUE=DATE:20240909
DTEND;VALUE=DATE:20240913
DTSTAMP:20260420T031102
CREATED:20240613T085255Z
LAST-MODIFIED:20240704T151814Z
UID:41727-1725840000-1726185599@tankstorage.com
SUMMARY:APPEC
DESCRIPTION:S&P Global Commodity Insights is delighted to announce the upcoming 40th Annual APPEC conference happening in Singapore on September 9 – 12\, 2024. \nBuilding on the success of previous years\, APPEC 2024 promises to deliver another exceptional experience filled with thought-provoking discussions\, expert insights\, and unparalleled networking opportunities across 6 communities Oil\, Shipping & Bunker\, Hydrogen\, Carbon Markets\, and Chemicals.
URL:https://tankstorage.com/event/appec/
LOCATION:Raffles City Convention Centre\, 80 Bras Basah Road Singapore 18\, Singapore
ATTACH;FMTTYPE=image/jpeg:https://tankstorage.com/wp-content/uploads/2024/06/APPEC-1200x628-Tank-Storage-Magazine-FA.jpg
ORGANIZER;CN="S&P Global":MAILTO:ci.support@spglobal.com
END:VEVENT
BEGIN:VEVENT
DTSTART;VALUE=DATE:20240911
DTEND;VALUE=DATE:20240914
DTSTAMP:20260420T031102
CREATED:20240424T172436Z
LAST-MODIFIED:20240510T111339Z
UID:41071-1726012800-1726271999@tankstorage.com
SUMMARY:Fecc Annual Congress
DESCRIPTION:Fecc Annual Congress is making a grand return to Sitges/Barcelona\, Spain\, for its 2024 edition from 11 to 13 September! Mark your calendars because the congress promises to be once again an exceptional event. \nAs we are meanwhile well known for\, we foresee a first-class selection of major topics with high relevance for all chemical value chain players in general and for chemical distributors in particular. Every topic will be introduced by an external expert with profound know-how in the respective area\, setting the scene with the latest facts and figures. Data\, issues\, and trends will afterwards be commented on and brought into perspective by our outstanding industry leaders and panellists with diverse backgrounds and areas of responsibility. \nAdditionally\, ample networking opportunities along the entire chemical supply chain will contribute largely to extend the attendees’ outreach towards existing and new peers. Don’t miss out on this unique chance to connect with industry experts/leaders and professionals from around the world\, exchange ideas\, and stay updated on the latest trends in our industry\, in a most entertaining way and exceptional venues.
URL:https://tankstorage.com/event/fecc-annual-congress/
ATTACH;FMTTYPE=image/png:https://tankstorage.com/wp-content/uploads/2024/04/Fecc-Congress-Sitges-2024-SM-RegisterNow-1200x628-1.png
ORGANIZER;CN="Fecc":MAILTO:fecc-congress@FECC.org
END:VEVENT
BEGIN:VEVENT
DTSTART;VALUE=DATE:20240912
DTEND;VALUE=DATE:20240914
DTSTAMP:20260420T031102
CREATED:20240610T165123Z
LAST-MODIFIED:20240610T165123Z
UID:41652-1726099200-1726271999@tankstorage.com
SUMMARY:Asia Pacific Hydrogen 2024 Summit & Exhibition
DESCRIPTION:Register for a COMPLIMENTARY visitor pass\, to Asia Pacific Hydrogen 2024 Summit & Exhibition\, taking place on 12-13 September at the BCEC\, Brisbane as government and industry united to accelerate hydrogen development. Featuring the support from over 4 Australian government’s\, do not miss this key event in the industry calendar! \nWith an expected attendance of 3000+ global hydrogen enthusiasts and experts\, the two-day event will feature a strategic summit\, a dynamic exhibition area hosting over 150 exhibitors\, showcasing the latest advancements\, technologies\, and solutions in the world of hydrogen along with a H2Tech Series Stage. Join as we pave the way for a sustainable future\, exploring the limitless potential of hydrogen and fostering meaningful partnerships.
URL:https://tankstorage.com/event/asia-pacific-hydrogen-2024-summit-exhibition/
LOCATION:BCEC\, Australia\, Brisbane Convention & Exhibition Centre corner Merivale and Glenelg Streets South Bank\, Brisbane\, Queensland\, 4101\, Australia
ATTACH;FMTTYPE=image/jpeg:https://tankstorage.com/wp-content/uploads/2024/06/APAC-2024-Web-Banners-1000x500-1.jpg
END:VEVENT
END:VCALENDAR