BEGIN:VCALENDAR
VERSION:2.0
PRODID:-//Tank Storage Magazine - ECPv6.15.20//NONSGML v1.0//EN
CALSCALE:GREGORIAN
METHOD:PUBLISH
X-WR-CALNAME:Tank Storage Magazine
X-ORIGINAL-URL:https://tankstorage.com
X-WR-CALDESC:Events for Tank Storage Magazine
REFRESH-INTERVAL;VALUE=DURATION:PT1H
X-Robots-Tag:noindex
X-PUBLISHED-TTL:PT1H
BEGIN:VTIMEZONE
TZID:Europe/London
BEGIN:DAYLIGHT
TZOFFSETFROM:+0000
TZOFFSETTO:+0100
TZNAME:BST
DTSTART:20230326T010000
END:DAYLIGHT
BEGIN:STANDARD
TZOFFSETFROM:+0100
TZOFFSETTO:+0000
TZNAME:GMT
DTSTART:20231029T010000
END:STANDARD
BEGIN:DAYLIGHT
TZOFFSETFROM:+0000
TZOFFSETTO:+0100
TZNAME:BST
DTSTART:20240331T010000
END:DAYLIGHT
BEGIN:STANDARD
TZOFFSETFROM:+0100
TZOFFSETTO:+0000
TZNAME:GMT
DTSTART:20241027T010000
END:STANDARD
BEGIN:DAYLIGHT
TZOFFSETFROM:+0000
TZOFFSETTO:+0100
TZNAME:BST
DTSTART:20250330T010000
END:DAYLIGHT
BEGIN:STANDARD
TZOFFSETFROM:+0100
TZOFFSETTO:+0000
TZNAME:GMT
DTSTART:20251026T010000
END:STANDARD
END:VTIMEZONE
BEGIN:VEVENT
DTSTART;VALUE=DATE:20240917
DTEND;VALUE=DATE:20240921
DTSTAMP:20260420T031105
CREATED:20240418T210053Z
LAST-MODIFIED:20240521T092312Z
UID:40753-1726531200-1726876799@tankstorage.com
SUMMARY:Gastech 2024
DESCRIPTION:Gastech 2024 is the largest energy exhibition and conference for natural gas\, LNG\, hydrogen\, climate technologies\, energy manufacturing\, and low carbon solutions. \nGastech\, taking place in Houston\, from 17-20 September 2024\, is the leading forum dedicated to steering the energy industry to a more sustainable future. Gastech 2024 will provide the industry with an opportunity for over 800 exhibitors\, 50\,000 attendees\, 5\,000 delegates and 1\,000 speakers from 125 countries to convene\, with the goal of transforming energy through vision\, innovation\, and action\, over a four-day period.\nGastech 2024 also features Gastech Hydrogen\, Gastech Climatetech\, and Gastech Shipping and Marine exhibitions.\nFind out more at https://www.gastechevent.com/ \nFollow on social:\nFacebook: https://www.facebook.com/GastechEvent\nX: https://twitter.com/GastechEvent\nLinkedIn: https://www.linkedin.com/company/gastechevent/\nYouTube: https://www.youtube.com/c/GastechEvent
URL:https://tankstorage.com/event/gastech-2/
LOCATION:George R. Brown Convention Center\, 1001 Avenida De Las Americas\, Houston\, TX\, 77010\, United States
ATTACH;FMTTYPE=image/png:https://tankstorage.com/wp-content/uploads/2024/04/GT24_GT_TRI-LOGO_TWO-LINES_DATE-VENUE_DARKBLUE_RGB.png
END:VEVENT
BEGIN:VEVENT
DTSTART;VALUE=DATE:20240919
DTEND;VALUE=DATE:20240920
DTSTAMP:20260420T031105
CREATED:20240418T121114Z
LAST-MODIFIED:20240418T121842Z
UID:40733-1726704000-1726790399@tankstorage.com
SUMMARY:Tank Storage Association
DESCRIPTION:The Tank Storage Association is the trade association representing the interests of companies engaged in the storage of bulk liquids and the provision of products and services to the sector. The next Tank Storage Conference and Exhibition will take place on 19 September 2024 at the Coventry Building Society Arena\, Coventry. The venue\, which is located less than a mile from junction 3 of the M6\, is just a 70 minute journey by train from London and is close to Birmingham International Airport.
URL:https://tankstorage.com/event/tank-storage-association/
LOCATION:Coventry Building Society Arena\, Coventry Building Society Arena\, Phoenix Way\, Coventry\, West Midlands\, CV6 6GE
ATTACH;FMTTYPE=image/png:https://tankstorage.com/wp-content/uploads/2024/04/Tank-storage-association.png
END:VEVENT
END:VCALENDAR