BEGIN:VCALENDAR
VERSION:2.0
PRODID:-//Tank Storage Magazine - ECPv6.15.20//NONSGML v1.0//EN
CALSCALE:GREGORIAN
METHOD:PUBLISH
X-WR-CALNAME:Tank Storage Magazine
X-ORIGINAL-URL:https://tankstorage.com
X-WR-CALDESC:Events for Tank Storage Magazine
REFRESH-INTERVAL;VALUE=DURATION:PT1H
X-Robots-Tag:noindex
X-PUBLISHED-TTL:PT1H
BEGIN:VTIMEZONE
TZID:Europe/London
BEGIN:DAYLIGHT
TZOFFSETFROM:+0000
TZOFFSETTO:+0100
TZNAME:BST
DTSTART:20230326T010000
END:DAYLIGHT
BEGIN:STANDARD
TZOFFSETFROM:+0100
TZOFFSETTO:+0000
TZNAME:GMT
DTSTART:20231029T010000
END:STANDARD
BEGIN:DAYLIGHT
TZOFFSETFROM:+0000
TZOFFSETTO:+0100
TZNAME:BST
DTSTART:20240331T010000
END:DAYLIGHT
BEGIN:STANDARD
TZOFFSETFROM:+0100
TZOFFSETTO:+0000
TZNAME:GMT
DTSTART:20241027T010000
END:STANDARD
BEGIN:DAYLIGHT
TZOFFSETFROM:+0000
TZOFFSETTO:+0100
TZNAME:BST
DTSTART:20250330T010000
END:DAYLIGHT
BEGIN:STANDARD
TZOFFSETFROM:+0100
TZOFFSETTO:+0000
TZNAME:GMT
DTSTART:20251026T010000
END:STANDARD
END:VTIMEZONE
BEGIN:VEVENT
DTSTART;VALUE=DATE:20241007
DTEND;VALUE=DATE:20241011
DTSTAMP:20260420T012611
CREATED:20231121T090735Z
LAST-MODIFIED:20240418T091002Z
UID:39186-1728259200-1728604799@tankstorage.com
SUMMARY:2024 API Storage Tank Conference & Expo
DESCRIPTION:The API Storage Tank Conference has been an annual event since 1995. It is considered the only meeting designed for high-level storage tank professionals\, and has a loyal and dedicated attendee base.
URL:https://tankstorage.com/event/2024-api-storage-tank-conference-expo/
LOCATION:Westin Fort Lauderdale Beach Resort\, Westin Fort Lauderdale Beach Resort\, Fort Lauderdale\, FL\, 33304\, United States
ATTACH;FMTTYPE=image/png:https://tankstorage.com/wp-content/uploads/2023/11/api-events-hub-nav-logo-5x.png
END:VEVENT
BEGIN:VEVENT
DTSTART;VALUE=DATE:20241007
DTEND;VALUE=DATE:20241011
DTSTAMP:20260420T012611
CREATED:20240421T141915Z
LAST-MODIFIED:20240607T145630Z
UID:40796-1728259200-1728604799@tankstorage.com
SUMMARY:EPCA
DESCRIPTION:EPCA is an international nonprofit organisation with a mission to bring petrochemical businesspeople together\, provide and exchange information and promoting best practice strengthening our understanding of the political\, economic\, social and tech trends shaping our world and contributing to a smart\, resilient\, sustainable and inclusive future.\nEPCA Annual Meeting is Europe’s largest event for the global petrochemical business community. It’s the flagship event for industry movers and shakers to analyse the trends\, initiatives and solutions driving forward the sector and its positive impact on the world.
URL:https://tankstorage.com/event/epca/
ATTACH;FMTTYPE=image/jpeg:https://tankstorage.com/wp-content/uploads/2024/04/EPCA58-Website-Banner-Ad-300x250-1.jpg
ORGANIZER;CN="EPCA":MAILTO:meetings@epca.eu
END:VEVENT
BEGIN:VEVENT
DTSTART;VALUE=DATE:20241008
DTEND;VALUE=DATE:20241011
DTSTAMP:20260420T012611
CREATED:20240418T125054Z
LAST-MODIFIED:20240418T125054Z
UID:40742-1728345600-1728604799@tankstorage.com
SUMMARY:AXL
DESCRIPTION:At AXL we believe that an event focused on the niche sector of breakbulk should be just that: niche and focused. Hosted at the heart of the European breakbulk market\, AXL provides a platform for the breakbulk\, RoRo\, heavy-lift and project cargo industry that delivers valuable connections and unforgettable experiences for visitors and exhibitors alike. Following an incredible third edition\, AntwerpXL returns in 2024 to bring the breakbulk community together again to showcase innovative technology\, overcome industry challenges\, and connect.
URL:https://tankstorage.com/event/axl/
LOCATION:Antwerp Expo\, ANTWERP EXPO\, HALL 4 JAN VAN RIJSWIJCKLAAN\, ANTWERPEN\, 191 2021\, Belgium
ATTACH;FMTTYPE=image/jpeg:https://tankstorage.com/wp-content/uploads/2024/04/AXL_24_social_general_1080x1080_.jpg
END:VEVENT
END:VCALENDAR