BEGIN:VCALENDAR
VERSION:2.0
PRODID:-//Tank Storage Magazine - ECPv6.15.20//NONSGML v1.0//EN
CALSCALE:GREGORIAN
METHOD:PUBLISH
X-ORIGINAL-URL:https://tankstorage.com
X-WR-CALDESC:Events for Tank Storage Magazine
REFRESH-INTERVAL;VALUE=DURATION:PT1H
X-Robots-Tag:noindex
X-PUBLISHED-TTL:PT1H
BEGIN:VTIMEZONE
TZID:Europe/London
BEGIN:DAYLIGHT
TZOFFSETFROM:+0000
TZOFFSETTO:+0100
TZNAME:BST
DTSTART:20230326T010000
END:DAYLIGHT
BEGIN:STANDARD
TZOFFSETFROM:+0100
TZOFFSETTO:+0000
TZNAME:GMT
DTSTART:20231029T010000
END:STANDARD
BEGIN:DAYLIGHT
TZOFFSETFROM:+0000
TZOFFSETTO:+0100
TZNAME:BST
DTSTART:20240331T010000
END:DAYLIGHT
BEGIN:STANDARD
TZOFFSETFROM:+0100
TZOFFSETTO:+0000
TZNAME:GMT
DTSTART:20241027T010000
END:STANDARD
BEGIN:DAYLIGHT
TZOFFSETFROM:+0000
TZOFFSETTO:+0100
TZNAME:BST
DTSTART:20250330T010000
END:DAYLIGHT
BEGIN:STANDARD
TZOFFSETFROM:+0100
TZOFFSETTO:+0000
TZNAME:GMT
DTSTART:20251026T010000
END:STANDARD
END:VTIMEZONE
BEGIN:VEVENT
DTSTART;VALUE=DATE:20241018
DTEND;VALUE=DATE:20241023
DTSTAMP:20260420T012723
CREATED:20241004T150436Z
LAST-MODIFIED:20241004T150436Z
UID:43261-1729209600-1729641599@tankstorage.com
SUMMARY:European Hydrogen Week 2024
DESCRIPTION:The hydrogen economy will redraw the energy map. There is absolutely no doubt that hydrogen will have a key role in the energy transition\, especially to harvest the fast-growing amount of renewable energy. Therefore\, in the global race to reach the Paris Agreement targets\, hydrogen technologies are increasingly at the centre of the attention and are now considered crucial and lucrative opportunities. The hydrogen’s moment is definitely now! \nThat’s why more and more companies and investors are prioritising hydrogen. Yet\, every business decision carries a risk and to mitigate them connections and knowledge-sharing are key. This event is a melting pot of powerful and influential leaders\, policy makers\, researchers\, and end users each looking for the next big thing. Companies will find customers\, investors and partners in the exhibition area as well as have be able to attend thought-provoking conferences. \nParticipants will have access to multiple conference streams\, over 25 sessions and 200 expected speakers to deep dive into all things hydrogen – from industry trends\, challenges and opportunities\, innovation\, new technology\, and more. Don’t miss a whole week dedicated to hydrogen topics\, exchanges and learning opportunities!
URL:https://tankstorage.com/event/european-hydrogen-week-2024/
LOCATION:Brussels Expo\, Brussels\, Pl. de Belgique 1\, 1020 Bruxelles\, Belgium
ATTACH;FMTTYPE=image/png:https://tankstorage.com/wp-content/uploads/2024/10/EU-H2-Week-Logo.png.png
END:VEVENT
END:VCALENDAR