BEGIN:VCALENDAR
VERSION:2.0
PRODID:-//Tank Storage Magazine - ECPv6.15.20//NONSGML v1.0//EN
CALSCALE:GREGORIAN
METHOD:PUBLISH
X-WR-CALNAME:Tank Storage Magazine
X-ORIGINAL-URL:https://tankstorage.com
X-WR-CALDESC:Events for Tank Storage Magazine
REFRESH-INTERVAL;VALUE=DURATION:PT1H
X-Robots-Tag:noindex
X-PUBLISHED-TTL:PT1H
BEGIN:VTIMEZONE
TZID:Europe/London
BEGIN:DAYLIGHT
TZOFFSETFROM:+0000
TZOFFSETTO:+0100
TZNAME:BST
DTSTART:20230326T010000
END:DAYLIGHT
BEGIN:STANDARD
TZOFFSETFROM:+0100
TZOFFSETTO:+0000
TZNAME:GMT
DTSTART:20231029T010000
END:STANDARD
BEGIN:DAYLIGHT
TZOFFSETFROM:+0000
TZOFFSETTO:+0100
TZNAME:BST
DTSTART:20240331T010000
END:DAYLIGHT
BEGIN:STANDARD
TZOFFSETFROM:+0100
TZOFFSETTO:+0000
TZNAME:GMT
DTSTART:20241027T010000
END:STANDARD
BEGIN:DAYLIGHT
TZOFFSETFROM:+0000
TZOFFSETTO:+0100
TZNAME:BST
DTSTART:20250330T010000
END:DAYLIGHT
BEGIN:STANDARD
TZOFFSETFROM:+0100
TZOFFSETTO:+0000
TZNAME:GMT
DTSTART:20251026T010000
END:STANDARD
END:VTIMEZONE
BEGIN:VEVENT
DTSTART;VALUE=DATE:20241104
DTEND;VALUE=DATE:20241108
DTSTAMP:20260419T234519
CREATED:20240507T100125Z
LAST-MODIFIED:20240507T122559Z
UID:41189-1730678400-1731023999@tankstorage.com
SUMMARY:ADIPEC
DESCRIPTION:ADIPEC 2024 will be held in Abu Dhabi from 4-7 November 2024\, with a renewed commitment to advancing tangible action across the entire energy value chain\, accelerating decarbonisation and advancing the global energy transformation. \nADIPEC will support the realisation of a cleaner\, more secure\, and sustainable future for all. Taking place at ADNEC\, ADIPEC will convene diverse energy producers\, the biggest energy consumers\, as well as enablers in government\, finance\, and technology from around the world\, facilitating critical cross-sector partnerships that support the decarbonisation of heavy industries and advance climate action. \nAs the world’s largest energy conference and exhibition\, ADIPEC is ideally positioned to drive forward the outcomes of COP28 and the UAE Consensus\, acting as a platform for energy and related industries to demonstrate concrete actions\, real progress\, and credible solutions advancing an inclusive and equitable transition. \nJoin us in Abu Dhabi this November for the world’s largest energy event and help create the energy system of tomorrow\, today.\nRegister for free today: https://bit.ly/49YSb5c \nRegister as a delegate: https://bit.ly/4c2kL7u
URL:https://tankstorage.com/event/adipec-2/
LOCATION:Abu Dhabi National Exhibition Centre\, Khaleej Al Arabi Street\, Abu Dhabi\, United Arab Emirates
ATTACH;FMTTYPE=image/png:https://tankstorage.com/wp-content/uploads/2024/05/270x270.png
END:VEVENT
END:VCALENDAR