BEGIN:VCALENDAR
VERSION:2.0
PRODID:-//Tank Storage Magazine - ECPv6.15.20//NONSGML v1.0//EN
CALSCALE:GREGORIAN
METHOD:PUBLISH
X-WR-CALNAME:Tank Storage Magazine
X-ORIGINAL-URL:https://tankstorage.com
X-WR-CALDESC:Events for Tank Storage Magazine
REFRESH-INTERVAL;VALUE=DURATION:PT1H
X-Robots-Tag:noindex
X-PUBLISHED-TTL:PT1H
BEGIN:VTIMEZONE
TZID:Europe/London
BEGIN:DAYLIGHT
TZOFFSETFROM:+0000
TZOFFSETTO:+0100
TZNAME:BST
DTSTART:20230326T010000
END:DAYLIGHT
BEGIN:STANDARD
TZOFFSETFROM:+0100
TZOFFSETTO:+0000
TZNAME:GMT
DTSTART:20231029T010000
END:STANDARD
BEGIN:DAYLIGHT
TZOFFSETFROM:+0000
TZOFFSETTO:+0100
TZNAME:BST
DTSTART:20240331T010000
END:DAYLIGHT
BEGIN:STANDARD
TZOFFSETFROM:+0100
TZOFFSETTO:+0000
TZNAME:GMT
DTSTART:20241027T010000
END:STANDARD
BEGIN:DAYLIGHT
TZOFFSETFROM:+0000
TZOFFSETTO:+0100
TZNAME:BST
DTSTART:20250330T010000
END:DAYLIGHT
BEGIN:STANDARD
TZOFFSETFROM:+0100
TZOFFSETTO:+0000
TZNAME:GMT
DTSTART:20251026T010000
END:STANDARD
END:VTIMEZONE
BEGIN:VEVENT
DTSTART;VALUE=DATE:20241202
DTEND;VALUE=DATE:20241206
DTSTAMP:20260419T215626
CREATED:20240711T141540Z
LAST-MODIFIED:20240722T103233Z
UID:42057-1733097600-1733443199@tankstorage.com
SUMMARY:18th Annual GPCA Forum
DESCRIPTION:The Annual GPCA Forum\, the flagship event of the Gulf Petrochemicals and Chemicals Association (GPCA)\, has earned its reputation as the premier gathering of the chemical and petrochemical industry in the Arabian Gulf region. Since its inception 17 years ago\, this forum has evolved to become a pivotal event on the global chemical industry calendar. It serves as a crucial platform where industry professionals from around the world convene to share knowledge\, exchange ideas\, and build valuable networks. \nThe 18th edition of the forum has not only grown in scale but also in significance\, drawing a diverse array of participants including senior executives\, decision-makers\, and experts from the chemical and petrochemical sectors. It provides an unparalleled opportunity for attendees to stay abreast of industry trends\, innovations\, and best practices. By fostering an environment of collaboration and dialogue\, the Annual GPCA Forum has established itself as the central hub for leadership and strategic discussions in the chemical and petrochemical industry\, both regionally and globally.
URL:https://tankstorage.com/event/18th-annual-gpca-forum/
LOCATION:Oman Convention and Exhibition Centre\, Madinat Al Irfan\, As Seeb\, Masqaţ 113\, Oman
ATTACH;FMTTYPE=image/jpeg:https://tankstorage.com/wp-content/uploads/2024/07/GPCAA.jpg
END:VEVENT
END:VCALENDAR