BEGIN:VCALENDAR
VERSION:2.0
PRODID:-//Tank Storage Magazine - ECPv6.15.20//NONSGML v1.0//EN
CALSCALE:GREGORIAN
METHOD:PUBLISH
X-WR-CALNAME:Tank Storage Magazine
X-ORIGINAL-URL:https://tankstorage.com
X-WR-CALDESC:Events for Tank Storage Magazine
REFRESH-INTERVAL;VALUE=DURATION:PT1H
X-Robots-Tag:noindex
X-PUBLISHED-TTL:PT1H
BEGIN:VTIMEZONE
TZID:Europe/London
BEGIN:DAYLIGHT
TZOFFSETFROM:+0000
TZOFFSETTO:+0100
TZNAME:BST
DTSTART:20220327T010000
END:DAYLIGHT
BEGIN:STANDARD
TZOFFSETFROM:+0100
TZOFFSETTO:+0000
TZNAME:GMT
DTSTART:20221030T010000
END:STANDARD
BEGIN:DAYLIGHT
TZOFFSETFROM:+0000
TZOFFSETTO:+0100
TZNAME:BST
DTSTART:20230326T010000
END:DAYLIGHT
BEGIN:STANDARD
TZOFFSETFROM:+0100
TZOFFSETTO:+0000
TZNAME:GMT
DTSTART:20231029T010000
END:STANDARD
BEGIN:DAYLIGHT
TZOFFSETFROM:+0000
TZOFFSETTO:+0100
TZNAME:BST
DTSTART:20240331T010000
END:DAYLIGHT
BEGIN:STANDARD
TZOFFSETFROM:+0100
TZOFFSETTO:+0000
TZNAME:GMT
DTSTART:20241027T010000
END:STANDARD
END:VTIMEZONE
BEGIN:VTIMEZONE
TZID:UTC
BEGIN:STANDARD
TZOFFSETFROM:+0000
TZOFFSETTO:+0000
TZNAME:UTC
DTSTART:20220101T000000
END:STANDARD
END:VTIMEZONE
BEGIN:VEVENT
DTSTART;VALUE=DATE:20230905
DTEND;VALUE=DATE:20230909
DTSTAMP:20260420T025109
CREATED:20230724T141704Z
LAST-MODIFIED:20230724T141704Z
UID:37478-1693872000-1694217599@tankstorage.com
SUMMARY:Gastech
DESCRIPTION:
URL:https://tankstorage.com/event/gastech/
LOCATION:singapore expo\, Singapore Expo\, 486150\, Singapore
ATTACH;FMTTYPE=image/jpeg:https://tankstorage.com/wp-content/uploads/2023/04/GastechJPG.jpg
END:VEVENT
BEGIN:VEVENT
DTSTART;VALUE=DATE:20230702
DTEND;VALUE=DATE:20230707
DTSTAMP:20260420T025109
CREATED:20230419T132057Z
LAST-MODIFIED:20230428T094427Z
UID:34304-1688256000-1688687999@tankstorage.com
SUMMARY:22nd NOG Energy Week Conference & Exhibition
DESCRIPTION:22ND NOG ENERGY WEEK CONFERENCE & EXHIBITION\nFollowing two decades of serving the Nigerian oil and gas industry\, dmg Nigeria events looks forward to continuing to facilitate multilateral dialogue\, foster multistakeholder engagement and enable deal making for many more decades to come. \nAbuja\, Nigeria
URL:https://tankstorage.com/event/22nd-nog-energy-week-conference-exhibition/
LOCATION:INTERNATIONAL CONFERENCE CENTRE\, Herbert Macaulay Way\, Abuja\, Federal Capital Territory\, INTERNATIONAL CONFERENCE CENTRE\, Herbert Macaulay Way\, Abuja\,\, Abuja\, Federal Capital Territory\, Nigeria
END:VEVENT
BEGIN:VEVENT
DTSTART;VALUE=DATE:20230614
DTEND;VALUE=DATE:20230616
DTSTAMP:20260420T025109
CREATED:20230418T152916Z
LAST-MODIFIED:20230505T111910Z
UID:34250-1686700800-1686873599@tankstorage.com
SUMMARY:Hydrogen & P2X 2023
DESCRIPTION:Hydrogen & P2X 2023\nFortes are delighted and excited to announce Hydrogen & P2X 2023 conference with newly researched agenda\, trending industry news\, excellent speakers & technical insights. The conference will take place on 14-15 June in Copenhagen. \nCopenhagen\, Denmark
URL:https://tankstorage.com/event/hydrogen-p2x-2023/
LOCATION:Copenhagen\, Denmark
ATTACH;FMTTYPE=image/jpeg:https://tankstorage.com/wp-content/uploads/2023/04/Hydrogen-P2X-2.jpg
END:VEVENT
BEGIN:VEVENT
DTSTART;VALUE=DATE:20230522
DTEND;VALUE=DATE:20230524
DTSTAMP:20260420T025109
CREATED:20230418T150526Z
LAST-MODIFIED:20230505T103436Z
UID:34248-1684713600-1684886399@tankstorage.com
SUMMARY:ILTA - International Operating Conference & Trade Show 2023
DESCRIPTION:International operating conference & trade show \nThe ILTA conference and trade show is the largest industry gathering with 4\,500 liquid terminal industry professionals. \nHouston\, Texas
URL:https://tankstorage.com/event/ilta-international-operating-conference-trade-show-2023/
LOCATION:Marriott Marquis Houston\, Texas\, 1777 Walker Street\, Houston\, TX\, 77010\, United States
ATTACH;FMTTYPE=image/png:https://tankstorage.com/wp-content/uploads/2023/04/ILTA-Logo1-2.png
END:VEVENT
BEGIN:VEVENT
DTSTART;VALUE=DATE:20230515
DTEND;VALUE=DATE:20230518
DTSTAMP:20260420T025109
CREATED:20230418T144142Z
LAST-MODIFIED:20230505T111927Z
UID:34245-1684108800-1684367999@tankstorage.com
SUMMARY:World Hydrogen North America 2023
DESCRIPTION:World Hydrogen North America 2023\nBuilding on the success of this year\, we are excited to give you a sneak peak into the program for World Hydrogen North America 2023. Next year’s event will be even bigger and better featuring 100+ speakers across 3 streams.
URL:https://tankstorage.com/event/world-hydrogen-north-america-2023/
LOCATION:Marriott Marquis Houston\, Texas\, 1777 Walker Street\, Houston\, TX\, 77010\, United States
ATTACH;FMTTYPE=image/jpeg:https://tankstorage.com/wp-content/uploads/2023/04/North-America-1.jpg
END:VEVENT
BEGIN:VEVENT
DTSTART;VALUE=DATE:20230510
DTEND;VALUE=DATE:20230512
DTSTAMP:20260420T025109
CREATED:20230418T140602Z
LAST-MODIFIED:20230505T112003Z
UID:34242-1683676800-1683849599@tankstorage.com
SUMMARY:CHEMUK 2023
DESCRIPTION:CHEMUK 2023\nCHEMUK is now established as the UK’s annual Chemical\, Laboratory & Process Industries Supply Chain Expo & Speaker Programme.
URL:https://tankstorage.com/event/chemuk-2023/
LOCATION:National Exhibition Centre\, NEC\, North Ave\, Birmingham\, B401NT\, United Kingdom
ATTACH;FMTTYPE=image/png:https://tankstorage.com/wp-content/uploads/2023/04/CHEMUK-2023-MPU-Tank-Storage-3.png
END:VEVENT
BEGIN:VEVENT
DTSTART;VALUE=DATE:20230510
DTEND;VALUE=DATE:20230511
DTSTAMP:20260420T025109
CREATED:20230406T132832Z
LAST-MODIFIED:20230505T110956Z
UID:34117-1683676800-1683763199@tankstorage.com
SUMMARY:UKIFDA Show & Exhibition
DESCRIPTION:This event will bring together the fuel distribution supply chain to showcase\, debate and understand the latest developments and technologies shaping the sector’s future. Coventry\, UK
URL:https://tankstorage.com/event/ukifda-show-exhibition/
LOCATION:CBS Arena\, Judds Ln\, Coventry\, CV6 6GE\, United Kingdom
ATTACH;FMTTYPE=image/png:https://tankstorage.com/wp-content/uploads/2023/04/UKIFDA_show-logo-2023-1024x363-1.png
END:VEVENT
BEGIN:VEVENT
DTSTART;TZID=UTC:20230509T080000
DTEND;TZID=UTC:20230509T170000
DTSTAMP:20260420T025109
CREATED:20230509T090317Z
LAST-MODIFIED:20230509T090317Z
UID:35453-1683619200-1683651600@tankstorage.com
SUMMARY:PGLC
DESCRIPTION:PGLC is a regular forum for producers\, suppliers and traders of petrochemical products globally. The aim of the meeting to promote discussion and debate around the major topics of the industry\, particularly with the changing world. The conference will focus on environment\, digitalisation\, sustainability\, fuel transition and logistics efficiencies.
URL:https://tankstorage.com/event/pglc/
LOCATION:TX
ATTACH;FMTTYPE=image/png:https://tankstorage.com/wp-content/uploads/2023/05/PGLC-logo.png
END:VEVENT
BEGIN:VEVENT
DTSTART;VALUE=DATE:20230509
DTEND;VALUE=DATE:20230512
DTSTAMP:20260420T025109
CREATED:20230418T124843Z
LAST-MODIFIED:20230428T094522Z
UID:34238-1683590400-1683849599@tankstorage.com
SUMMARY:World Hydrogen 2023
DESCRIPTION:World Hydrogen 2023\nThe leading global platform for hydrogen business returns to the iconic Rotterdam Ahoy in 2023. Following the huge success of 2022 – including a sell-out Summit! – World Hydrogen 2023 will be doubling in size to keep up with surging demand\, enabling twice as many companies to showcase\, collaborate and do deals to advance the global hydrogen economy.
URL:https://tankstorage.com/event/world-hydrogen-2023/
LOCATION:Rotterdam Ahoy\, Ahoy Arena\, Ahoyweg 10\, Rotterdam\, 3084\, Netherlands
END:VEVENT
BEGIN:VEVENT
DTSTART;VALUE=DATE:20230426
DTEND;VALUE=DATE:20230428
DTSTAMP:20260420T025109
CREATED:20230418T123834Z
LAST-MODIFIED:20230505T112157Z
UID:34235-1682467200-1682639999@tankstorage.com
SUMMARY:Digitalization in Oil & Gas Canada
DESCRIPTION:The only digitalization-focused conference for the Canadian energy sector.
URL:https://tankstorage.com/event/digitalization-in-oil-gas/
LOCATION:Calgary\, Canada\, Westin Calgary\, 320 4 Ave SW\, Calgary\, Alberta\, T2P 0H7\, Canada
ATTACH;FMTTYPE=image/jpeg:https://tankstorage.com/wp-content/uploads/2023/04/Digi-in-OG-Canada-Tank-Storage-Magazine-300x250-1-2.jpg
END:VEVENT
BEGIN:VEVENT
DTSTART;TZID=UTC:20230419T080000
DTEND;TZID=UTC:20230419T170000
DTSTAMP:20260420T025109
CREATED:20230419T134808Z
LAST-MODIFIED:20230505T112258Z
UID:34314-1681891200-1681923600@tankstorage.com
SUMMARY:World Hydrogen Week
DESCRIPTION:World Hydrogen Week\nThis October\, the 4th annual World Hydrogen Congress returns to Rotterdam alongside the Word Hydrogen Intelligence Day and Global Hydrogen Projects Summit. What’s more\, we are mirroring the hydrogen market’s growth and launching the inaugural World Hydrogen Derivatives conference to offer a week-long programme of events. \nRotterdam\, The Netherlands
URL:https://tankstorage.com/event/world-hydrogen-week/
LOCATION:World Trade Centre Rotterdam\, Beursplein 37\, Rotterdam\, 3011 AA\, Netherlands
ATTACH;FMTTYPE=image/png:https://tankstorage.com/wp-content/uploads/2023/04/WHWeek-23-Banner-1920x1080-1-1.png
END:VEVENT
END:VCALENDAR