BEGIN:VCALENDAR
VERSION:2.0
PRODID:-//Tank Storage Magazine - ECPv6.15.20//NONSGML v1.0//EN
CALSCALE:GREGORIAN
METHOD:PUBLISH
X-ORIGINAL-URL:https://tankstorage.com
X-WR-CALDESC:Events for Tank Storage Magazine
REFRESH-INTERVAL;VALUE=DURATION:PT1H
X-Robots-Tag:noindex
X-PUBLISHED-TTL:PT1H
BEGIN:VTIMEZONE
TZID:UTC
BEGIN:STANDARD
TZOFFSETFROM:+0000
TZOFFSETTO:+0000
TZNAME:UTC
DTSTART:20220101T000000
END:STANDARD
END:VTIMEZONE
BEGIN:VEVENT
DTSTART;VALUE=DATE:20230614
DTEND;VALUE=DATE:20230616
DTSTAMP:20260421T162930
CREATED:20230418T152916Z
LAST-MODIFIED:20230505T111910Z
UID:34250-1686700800-1686873599@tankstorage.com
SUMMARY:Hydrogen & P2X 2023
DESCRIPTION:Hydrogen & P2X 2023\nFortes are delighted and excited to announce Hydrogen & P2X 2023 conference with newly researched agenda\, trending industry news\, excellent speakers & technical insights. The conference will take place on 14-15 June in Copenhagen. \nCopenhagen\, Denmark
URL:https://tankstorage.com/event/hydrogen-p2x-2023/
LOCATION:Copenhagen\, Denmark
ATTACH;FMTTYPE=image/jpeg:https://tankstorage.com/wp-content/uploads/2023/04/Hydrogen-P2X-2.jpg
END:VEVENT
END:VCALENDAR