BEGIN:VCALENDAR
VERSION:2.0
PRODID:-//Tank Storage Magazine - ECPv6.15.20//NONSGML v1.0//EN
CALSCALE:GREGORIAN
METHOD:PUBLISH
X-ORIGINAL-URL:https://tankstorage.com
X-WR-CALDESC:Events for Tank Storage Magazine
REFRESH-INTERVAL;VALUE=DURATION:PT1H
X-Robots-Tag:noindex
X-PUBLISHED-TTL:PT1H
BEGIN:VTIMEZONE
TZID:Europe/London
BEGIN:DAYLIGHT
TZOFFSETFROM:+0000
TZOFFSETTO:+0100
TZNAME:BST
DTSTART:20220327T010000
END:DAYLIGHT
BEGIN:STANDARD
TZOFFSETFROM:+0100
TZOFFSETTO:+0000
TZNAME:GMT
DTSTART:20221030T010000
END:STANDARD
BEGIN:DAYLIGHT
TZOFFSETFROM:+0000
TZOFFSETTO:+0100
TZNAME:BST
DTSTART:20230326T010000
END:DAYLIGHT
BEGIN:STANDARD
TZOFFSETFROM:+0100
TZOFFSETTO:+0000
TZNAME:GMT
DTSTART:20231029T010000
END:STANDARD
BEGIN:DAYLIGHT
TZOFFSETFROM:+0000
TZOFFSETTO:+0100
TZNAME:BST
DTSTART:20240331T010000
END:DAYLIGHT
BEGIN:STANDARD
TZOFFSETFROM:+0100
TZOFFSETTO:+0000
TZNAME:GMT
DTSTART:20241027T010000
END:STANDARD
END:VTIMEZONE
BEGIN:VEVENT
DTSTART;VALUE=DATE:20231204
DTEND;VALUE=DATE:20231207
DTSTAMP:20260421T064416
CREATED:20231023T133717Z
LAST-MODIFIED:20231023T133756Z
UID:38790-1701648000-1701907199@tankstorage.com
SUMMARY:17th Annual GPCA Forum
DESCRIPTION:Elevate your perspective\, engage with visionaries\, and navigate the future at the 17th Annual GPCA Forum. Prepare to harness knowledge that transforms\, networks that expand horizons\, and innovations that redefine possibilities. Together\, let’s shape a future where chemistry becomes the cornerstone of impactful transformation.
URL:https://tankstorage.com/event/17th-annual-gpca-forum/
LOCATION:Qatar National Convention Centre\, PO Box 34195\, Education City\, Ar-Rayyan\, Doha\, Qatar
ATTACH;FMTTYPE=image/jpeg:https://tankstorage.com/wp-content/uploads/2023/10/AF-banner-300x250-1.jpg
END:VEVENT
BEGIN:VEVENT
DTSTART;VALUE=DATE:20231205
DTEND;VALUE=DATE:20231208
DTSTAMP:20260421T064416
CREATED:20231013T095242Z
LAST-MODIFIED:20231102T112004Z
UID:38598-1701734400-1701993599@tankstorage.com
SUMMARY:16th Annual National Aboveground Storage Tank Conference & Trade Show
DESCRIPTION:Join the industry’s top event for connecting aboveground storage tank professionals with new services\, products\, and technology.
URL:https://tankstorage.com/event/16th-annual-national-aboveground-storage-tank-conference-trade-show/
LOCATION:The Woodlands Waterway Marriott\, 1601 Lake Robbins Dr\, The Woodlands\, TX\, 77380\, United States
ATTACH;FMTTYPE=image/jpeg:https://tankstorage.com/wp-content/uploads/2023/10/Texas-2023-NISTM-WEB-300x250-px.jpg
END:VEVENT
END:VCALENDAR