BEGIN:VCALENDAR
VERSION:2.0
PRODID:-//Tank Storage Magazine - ECPv6.15.20//NONSGML v1.0//EN
CALSCALE:GREGORIAN
METHOD:PUBLISH
X-WR-CALNAME:Tank Storage Magazine
X-ORIGINAL-URL:https://tankstorage.com
X-WR-CALDESC:Events for Tank Storage Magazine
REFRESH-INTERVAL;VALUE=DURATION:PT1H
X-Robots-Tag:noindex
X-PUBLISHED-TTL:PT1H
BEGIN:VTIMEZONE
TZID:Europe/London
BEGIN:DAYLIGHT
TZOFFSETFROM:+0000
TZOFFSETTO:+0100
TZNAME:BST
DTSTART:20230326T010000
END:DAYLIGHT
BEGIN:STANDARD
TZOFFSETFROM:+0100
TZOFFSETTO:+0000
TZNAME:GMT
DTSTART:20231029T010000
END:STANDARD
BEGIN:DAYLIGHT
TZOFFSETFROM:+0000
TZOFFSETTO:+0100
TZNAME:BST
DTSTART:20240331T010000
END:DAYLIGHT
BEGIN:STANDARD
TZOFFSETFROM:+0100
TZOFFSETTO:+0000
TZNAME:GMT
DTSTART:20241027T010000
END:STANDARD
BEGIN:DAYLIGHT
TZOFFSETFROM:+0000
TZOFFSETTO:+0100
TZNAME:BST
DTSTART:20250330T010000
END:DAYLIGHT
BEGIN:STANDARD
TZOFFSETFROM:+0100
TZOFFSETTO:+0000
TZNAME:GMT
DTSTART:20251026T010000
END:STANDARD
END:VTIMEZONE
BEGIN:VEVENT
DTSTART;VALUE=DATE:20240506
DTEND;VALUE=DATE:20240509
DTSTAMP:20260420T221430
CREATED:20240122T134111Z
LAST-MODIFIED:20240122T134111Z
UID:39706-1714953600-1715212799@tankstorage.com
SUMMARY:2024 ILTA Conference and Trade Show
DESCRIPTION:The ILTA Conference and Trade Show is the largest industry gathering with 4\,500 liquid terminal industry professionals. \nILTA 2024 is an excellent way for terminal employees to learn from expert speakers and panelists\, stay updated on the latest industry advancements\, network with industry professionals\, and gain valuable insights into the trends impacting liquid terminals today.For suppliers\, ILTA’s conference and trade show give you a chance to display and demonstrate your goods and services to terminal industry executives and decision-makers. With over 300 companies in attendance\, the trade show is where you will find a wide range of products\, services\, and solutions – including new and innovative technologies – to help you and your company hit your numbers and meet your goals.
URL:https://tankstorage.com/event/2024-ilta-conference-and-trade-show/
LOCATION:Marriot Marquis and George R. Brown Convention Center\, Houston\, TX\, United States
ATTACH;FMTTYPE=image/jpeg:https://tankstorage.com/wp-content/uploads/2024/01/24_EMAIL-Header_1_600px.jpg
END:VEVENT
BEGIN:VEVENT
DTSTART;VALUE=DATE:20240513
DTEND;VALUE=DATE:20240516
DTSTAMP:20260420T221430
CREATED:20240419T110337Z
LAST-MODIFIED:20240419T110337Z
UID:40785-1715558400-1715817599@tankstorage.com
SUMMARY:International Storage Tank & Terminal Technology
DESCRIPTION:TANKCONEX is the premier gathering of oil and gas tank professionals! As a delegate\, access cutting-edge products\, innovations\, and industry advancements. Attend informative seminars and workshops\, staying updated on the latest trends and technologies. Network with industry experts and key players\, exploring new business opportunities. With thousands of global visitors\, seize the chance to connect with like-minded professionals. Unlock your storage tank business potential\, gaining invaluable insights.
URL:https://tankstorage.com/event/international-storage-tank-terminal-technology/
LOCATION:Dhahran Expo\, Al Khobar – KSA\, 4344 Exhibition Rd\, Al Saif\, Dammam\, 34213\, Saudi Arabia
ATTACH;FMTTYPE=image/jpeg:https://tankstorage.com/wp-content/uploads/2024/04/tank-conex.jpg
ORGANIZER;CN="Tank Conex":MAILTO:info@tankconex.com
END:VEVENT
BEGIN:VEVENT
DTSTART;VALUE=DATE:20240515
DTEND;VALUE=DATE:20240517
DTSTAMP:20260420T221430
CREATED:20231013T093522Z
LAST-MODIFIED:20231013T093522Z
UID:38584-1715731200-1715903999@tankstorage.com
SUMMARY:ChemUK 2024
DESCRIPTION:CHEMUK 2024 will showcase over 500 exhibitors across three show zones; ‘The Chemical Industries Supply Chain Zone’\, ‘CHEMLAB – Laboratory & Innovation Zone’\, and ‘The Chemical\, Process & Plant Engineering & Safety Zone‘. \nThe CHEMUK 2-day speaker programme will host some 100+ expert speakers discussing the big challenges and opportunities affecting the UK’s chemical & chemical product industries. \nThe expo is free to attend for everyone!
URL:https://tankstorage.com/event/chemuk-2024/
LOCATION:National Exhibition Centre\, NEC\, North Ave\, Birmingham\, B401NT\, United Kingdom
ATTACH;FMTTYPE=image/png:https://tankstorage.com/wp-content/uploads/2023/10/CHEMUK-2024-MPU-TSM.png
END:VEVENT
END:VCALENDAR