BEGIN:VCALENDAR
VERSION:2.0
PRODID:-//Tank Storage Magazine - ECPv6.15.20//NONSGML v1.0//EN
CALSCALE:GREGORIAN
METHOD:PUBLISH
X-WR-CALNAME:Tank Storage Magazine
X-ORIGINAL-URL:https://tankstorage.com
X-WR-CALDESC:Events for Tank Storage Magazine
REFRESH-INTERVAL;VALUE=DURATION:PT1H
X-Robots-Tag:noindex
X-PUBLISHED-TTL:PT1H
BEGIN:VTIMEZONE
TZID:UTC
BEGIN:STANDARD
TZOFFSETFROM:+0000
TZOFFSETTO:+0000
TZNAME:UTC
DTSTART:20220101T000000
END:STANDARD
END:VTIMEZONE
BEGIN:VEVENT
DTSTART;VALUE=DATE:20230921
DTEND;VALUE=DATE:20230922
DTSTAMP:20260421T125957
CREATED:20230419T133847Z
LAST-MODIFIED:20230505T102718Z
UID:34309-1695254400-1695340799@tankstorage.com
SUMMARY:Tank Storage Conference & Exhibition
DESCRIPTION:Tank Storage Association Conference and Exhibition\nThe annual conference programme regularly features presentations from Government\, Regulators and industry experts on topics which are of key interest to those who operate in this sector. \nBirmingham\, UK
URL:https://tankstorage.com/event/tank-storage-conference-exhibition/
LOCATION:Coventry Building Society Arena\, Coventry Building Society Arena\, Phoenix Way\, Coventry\, West Midlands\, CV6 6GE
ATTACH;FMTTYPE=image/jpeg:https://tankstorage.com/wp-content/uploads/2023/04/jsnx-1.jpg
END:VEVENT
END:VCALENDAR