BEGIN:VCALENDAR
VERSION:2.0
PRODID:-//Tank Storage Magazine - ECPv6.15.20//NONSGML v1.0//EN
CALSCALE:GREGORIAN
METHOD:PUBLISH
X-WR-CALNAME:Tank Storage Magazine
X-ORIGINAL-URL:https://tankstorage.com
X-WR-CALDESC:Events for Tank Storage Magazine
REFRESH-INTERVAL;VALUE=DURATION:PT1H
X-Robots-Tag:noindex
X-PUBLISHED-TTL:PT1H
BEGIN:VTIMEZONE
TZID:UTC
BEGIN:STANDARD
TZOFFSETFROM:+0000
TZOFFSETTO:+0000
TZNAME:UTC
DTSTART:20220101T000000
END:STANDARD
END:VTIMEZONE
BEGIN:VEVENT
DTSTART;VALUE=DATE:20230927
DTEND;VALUE=DATE:20230929
DTSTAMP:20260421T130754
CREATED:20230814T162932Z
LAST-MODIFIED:20230814T163205Z
UID:37801-1695772800-1695945599@tankstorage.com
SUMMARY:Hydrogen Technology Expo Europe
DESCRIPTION:Hydrogen Technology Expo Europe\nThe must-attend conference and exhibition that is exclusively dedicated to discussing advanced technologies for the hydrogen and fuel cell industry. The event will bring together the entire hydrogen value chain to focus on developing solutions and innovations for low-carbon hydrogen production\, efficient storage and distribution as well as applications in a variety of stationary and mobile applications. \nMesse Bremen\, Germany
URL:https://tankstorage.com/event/hydrogen-technology-expo-europe/
LOCATION:Messe Bremen Centre\, Findorffstr. 101 · 28215 Bremen\, Germany
ATTACH;FMTTYPE=image/jpeg:https://tankstorage.com/wp-content/uploads/2023/08/300x250.jpg
END:VEVENT
END:VCALENDAR