BEGIN:VCALENDAR
VERSION:2.0
PRODID:-//Tank Storage Magazine - ECPv6.15.20//NONSGML v1.0//EN
CALSCALE:GREGORIAN
METHOD:PUBLISH
X-ORIGINAL-URL:https://tankstorage.com
X-WR-CALDESC:Events for Tank Storage Magazine
REFRESH-INTERVAL;VALUE=DURATION:PT1H
X-Robots-Tag:noindex
X-PUBLISHED-TTL:PT1H
BEGIN:VTIMEZONE
TZID:UTC
BEGIN:STANDARD
TZOFFSETFROM:+0000
TZOFFSETTO:+0000
TZNAME:UTC
DTSTART:20220101T000000
END:STANDARD
END:VTIMEZONE
BEGIN:VEVENT
DTSTART;VALUE=DATE:20231002
DTEND;VALUE=DATE:20231004
DTSTAMP:20260421T113556
CREATED:20230815T141254Z
LAST-MODIFIED:20230816T094540Z
UID:37822-1696204800-1696377599@tankstorage.com
SUMMARY:Hydrogen Americas 2023 Summit & Exhibition
DESCRIPTION:Hydrogen Americas 2023 Summit & Exhibition\nFollowing the sell-out Summit in 2022\, the Sustainable Energy Council (SEC) and the U.S. Department of Energy (DOE) are returning to Washington D.C. to welcome 3000 industry leaders from across the value chain\, including government representatives\, hydrogen and energy stakeholders\, service providers and offtakers who will be showcasing their latest technologies\, project developments and policies. \nRonald Regan Int. Trade Center\, United States
URL:https://tankstorage.com/event/hydrogen-americas-2023-summit-exhibition/
LOCATION:Ronald Regan Int. Trade Center\, 1300 Pennsylvania Avenue NW\, WA\, DC 20004\, United States
ATTACH;FMTTYPE=image/jpeg:https://tankstorage.com/wp-content/uploads/2023/08/HAS-2023-Banners-Register-Your-Free-Exhibition-Pass-1500-x-1500.jpg
END:VEVENT
END:VCALENDAR