BEGIN:VCALENDAR
VERSION:2.0
PRODID:-//Tank Storage Magazine - ECPv6.15.20//NONSGML v1.0//EN
CALSCALE:GREGORIAN
METHOD:PUBLISH
X-ORIGINAL-URL:https://tankstorage.com
X-WR-CALDESC:Events for Tank Storage Magazine
REFRESH-INTERVAL;VALUE=DURATION:PT1H
X-Robots-Tag:noindex
X-PUBLISHED-TTL:PT1H
BEGIN:VTIMEZONE
TZID:UTC
BEGIN:STANDARD
TZOFFSETFROM:+0000
TZOFFSETTO:+0000
TZNAME:UTC
DTSTART:20220101T000000
END:STANDARD
END:VTIMEZONE
BEGIN:VEVENT
DTSTART;VALUE=DATE:20231024
DTEND;VALUE=DATE:20231026
DTSTAMP:20260421T113531
CREATED:20230419T143529Z
LAST-MODIFIED:20230505T102341Z
UID:34320-1698105600-1698278399@tankstorage.com
SUMMARY:Storage Tank Operation\, Maintenance & Safety
DESCRIPTION:Storage Tank Operation\, Maintenance & Safety \nThis two-day workshop will provide:-\n• A basic understanding of storage tanks\, how they are operated\, managed and maintained\n• Explain the concept of vapour emissions and how to measure and control them on existing and new-build tanks to ensure a safe and environmentally acceptable storage tank facility. \nDubai\, United Arab Emirates
URL:https://tankstorage.com/event/storage-tank-operation-maintenance-safety/
ATTACH;FMTTYPE=image/jpeg:https://tankstorage.com/wp-content/uploads/2023/04/2apidec2.jpg
END:VEVENT
BEGIN:VEVENT
DTSTART;VALUE=DATE:20231025
DTEND;VALUE=DATE:20231027
DTSTAMP:20260421T113531
CREATED:20230505T084949Z
LAST-MODIFIED:20230620T070716Z
UID:35286-1698192000-1698364799@tankstorage.com
SUMMARY:Asian Downstream Summit
DESCRIPTION:Asia Downstream Summit\nThe Asian Downstream Summit (ADS) is Asia’s most influential downstream oil and gas event; A globally recognised brand\, ADS brings together senior industry leaders and decision-makers from all across the downstream value chain to discuss the most pertinent issues and challenges that the industry faces today\, and what can be done to overcome them. \nSands Expo & Convention Centre\, Singapore
URL:https://tankstorage.com/event/asian-downstream-summit/
LOCATION:Sands Expo & Convention Centre\, Singapore\, 10 Bayfront Ave\, Singapore\, 018956\, Singapore
ATTACH;FMTTYPE=image/png:https://tankstorage.com/wp-content/uploads/2023/05/ADSARTC_MediaPartnerResize_Generic_1920x1080.png
END:VEVENT
END:VCALENDAR