BEGIN:VCALENDAR
VERSION:2.0
PRODID:-//Tank Storage Magazine - ECPv6.15.20//NONSGML v1.0//EN
CALSCALE:GREGORIAN
METHOD:PUBLISH
X-ORIGINAL-URL:https://tankstorage.com
X-WR-CALDESC:Events for Tank Storage Magazine
REFRESH-INTERVAL;VALUE=DURATION:PT1H
X-Robots-Tag:noindex
X-PUBLISHED-TTL:PT1H
BEGIN:VTIMEZONE
TZID:UTC
BEGIN:STANDARD
TZOFFSETFROM:+0000
TZOFFSETTO:+0000
TZNAME:UTC
DTSTART:20220101T000000
END:STANDARD
END:VTIMEZONE
BEGIN:VEVENT
DTSTART;VALUE=DATE:20231026
DTEND;VALUE=DATE:20231028
DTSTAMP:20260421T113549
CREATED:20230822T154100Z
LAST-MODIFIED:20230822T154100Z
UID:37914-1698278400-1698451199@tankstorage.com
SUMMARY:Asia-Pacific Hydrogen 2023 Summit & Exhibition
DESCRIPTION:Asia-Pacific Hydrogen 2023 Summit & Exhibition\nWith Asia Pacific’s leading hydrogen summit just around the corner\, the Sustainable Energy Council in partnership with the Australian Hydrogen Council and supported by Australian Trade and Investment Commission and New South Wales Government\, would like to share some thrilling updates and announce the long-awaited Summit Programme for the Asia Pacific Hydrogen 2023 Summit & Exhibition taking place on 26 – 27 October at the ICC in Sydney\, Australia that will make your experience even more remarkable! \nGet your tickets now for two days of cutting-edge discussions\, networking\, and industry insights. Don’t miss this opportunity to connect with global hydrogen leaders who are ready to lead the way in #renewableenergy and accelerate towards #netzero\, proactively developing international #hydrogen supply chains in support of this. \nICC\, Sydney
URL:https://tankstorage.com/event/asia-pacific-hydrogen-2023-summit-exhibition/
LOCATION:ICC Sydney\, 14 Darling Dr\, Sydney\, Sydney NSW 2000\, Australia
ATTACH;FMTTYPE=image/jpeg:https://tankstorage.com/wp-content/uploads/2023/08/APAC-2023-Web-Banners-Register-Your-Ticket-1200x1200-1.jpg
END:VEVENT
END:VCALENDAR