BEGIN:VCALENDAR
VERSION:2.0
PRODID:-//Tank Storage Magazine - ECPv6.15.20//NONSGML v1.0//EN
CALSCALE:GREGORIAN
METHOD:PUBLISH
X-WR-CALNAME:Tank Storage Magazine
X-ORIGINAL-URL:https://tankstorage.com
X-WR-CALDESC:Events for Tank Storage Magazine
REFRESH-INTERVAL;VALUE=DURATION:PT1H
X-Robots-Tag:noindex
X-PUBLISHED-TTL:PT1H
BEGIN:VTIMEZONE
TZID:Europe/London
BEGIN:DAYLIGHT
TZOFFSETFROM:+0000
TZOFFSETTO:+0100
TZNAME:BST
DTSTART:20220327T010000
END:DAYLIGHT
BEGIN:STANDARD
TZOFFSETFROM:+0100
TZOFFSETTO:+0000
TZNAME:GMT
DTSTART:20221030T010000
END:STANDARD
BEGIN:DAYLIGHT
TZOFFSETFROM:+0000
TZOFFSETTO:+0100
TZNAME:BST
DTSTART:20230326T010000
END:DAYLIGHT
BEGIN:STANDARD
TZOFFSETFROM:+0100
TZOFFSETTO:+0000
TZNAME:GMT
DTSTART:20231029T010000
END:STANDARD
BEGIN:DAYLIGHT
TZOFFSETFROM:+0000
TZOFFSETTO:+0100
TZNAME:BST
DTSTART:20240331T010000
END:DAYLIGHT
BEGIN:STANDARD
TZOFFSETFROM:+0100
TZOFFSETTO:+0000
TZNAME:GMT
DTSTART:20241027T010000
END:STANDARD
END:VTIMEZONE
BEGIN:VEVENT
DTSTART;VALUE=DATE:20231107
DTEND;VALUE=DATE:20231110
DTSTAMP:20260421T100259
CREATED:20230817T144352Z
LAST-MODIFIED:20230817T144352Z
UID:37859-1699315200-1699574399@tankstorage.com
SUMMARY:Hazards 33
DESCRIPTION:Hazards is widely recognised as one of the world’s leading process safety conferences. First staged in 1960\, it is an industry-focused event which shares good practice\, current thinking and lessons learned in process safety\, and offers valuable networking opportunities. This conference is an excellent opportunity for process safety and loss prevention professionals to connect with their peers\, build networks and renew their focus on good process safety practice post-pandemic.
URL:https://tankstorage.com/event/hazards-33/
LOCATION:National Conference Centre\, Coventry Road\, Solihull\, West Midlands\, B92 0EJ\, United Kingdom
ATTACH;FMTTYPE=image/jpeg:https://tankstorage.com/wp-content/uploads/2023/08/hazards33-185-400px.jpg
END:VEVENT
BEGIN:VEVENT
DTSTART;VALUE=DATE:20231109
DTEND;VALUE=DATE:20231111
DTSTAMP:20260421T100259
CREATED:20231013T093842Z
LAST-MODIFIED:20231013T093842Z
UID:38588-1699488000-1699660799@tankstorage.com
SUMMARY:VII Med Hub Day
DESCRIPTION:The Med Hub Day a unique opportunity to learn the strengths of Mediterranean Sea in the liquid bulk sector.
URL:https://tankstorage.com/event/vii-med-hub-day/
LOCATION:Port Tarragona\, Tinglado 1 Moll de Costa\, Tarragona\, Barcelona\, Spain
ATTACH;FMTTYPE=image/jpeg:https://tankstorage.com/wp-content/uploads/2023/10/med_hub_day_2023.jpg
END:VEVENT
END:VCALENDAR